BEGIN:VCALENDAR
VERSION:2.0
PRODID:-//HdS Krefeld - ECPv6.15.12.2//NONSGML v1.0//EN
CALSCALE:GREGORIAN
METHOD:PUBLISH
X-ORIGINAL-URL:https://seidenkultur.de
X-WR-CALDESC:Veranstaltungen für HdS Krefeld
REFRESH-INTERVAL;VALUE=DURATION:PT1H
X-Robots-Tag:noindex
X-PUBLISHED-TTL:PT1H
BEGIN:VTIMEZONE
TZID:UTC
BEGIN:STANDARD
TZOFFSETFROM:+0000
TZOFFSETTO:+0000
TZNAME:UTC
DTSTART:20240101T000000
END:STANDARD
END:VTIMEZONE
BEGIN:VEVENT
DTSTART;TZID=UTC:20250607T130000
DTEND;TZID=UTC:20250609T170000
DTSTAMP:20260423T211245
CREATED:20250213T095708Z
LAST-MODIFIED:20250304T110646Z
UID:246097-1749301200-1749488400@seidenkultur.de
SUMMARY:Flachsmarkt
DESCRIPTION:Unter den rund 300 Handwerkern\, die sich Pfingsten auf dem Flachsmarkt am Fuße der Burg Linn präsentieren\, sind auch Weber\, Patroneure und weitere Textiler aus dem Haus der Seidenkultur (HdS)\, die sich gleich an zwei Schauplätzen präsentieren. \nSo wird in der nostalgischen Spinnstube der Burg einem historischen Schaftwebstuhl ein gekonntes „Schipp-Schapp“ entlockt. „Dabei werden handelsübliche Geschirrtücher aus einer Mischung aus Baumwolle und Leinen gewebt“\, verrät HdS-Sprecher Dieter Brenner. „Diese seltene Kollektion wird dann später in unserem Museum an der Luisenstraße käuflich zu erwerben sein.“ \nIm Burghof wird indes die Wegstrecke „von der Seidenraupe bis zum Seidenfaden“ erklärt. Gezeigt wird\, wie der Seidenfaden vom Kokon „abgerollt“\, sprich: gehaspelt wird. Die Besucher erfahren\, dass ein einziger Kokon rein rechnerisch über eine Fadenlänge von rund 3.000 Metern verfügt.
URL:https://seidenkultur.de/veranstaltung/flachsmarkt/
LOCATION:Burg Linn\, Rheinbabenstraße 85\, Krefeld\, 47809
CATEGORIES:Sonstige
END:VEVENT
END:VCALENDAR