BEGIN:VCALENDAR
VERSION:2.0
PRODID:-//HdS Krefeld - ECPv6.15.12.2//NONSGML v1.0//EN
CALSCALE:GREGORIAN
METHOD:PUBLISH
X-ORIGINAL-URL:https://seidenkultur.de
X-WR-CALDESC:Veranstaltungen für HdS Krefeld
REFRESH-INTERVAL;VALUE=DURATION:PT1H
X-Robots-Tag:noindex
X-PUBLISHED-TTL:PT1H
BEGIN:VTIMEZONE
TZID:UTC
BEGIN:STANDARD
TZOFFSETFROM:+0000
TZOFFSETTO:+0000
TZNAME:UTC
DTSTART:20240101T000000
END:STANDARD
END:VTIMEZONE
BEGIN:VEVENT
DTSTART;TZID=UTC:20250511T130000
DTEND;TZID=UTC:20250511T170000
DTSTAMP:20260423T211346
CREATED:20250213T093512Z
LAST-MODIFIED:20250304T110613Z
UID:246080-1746968400-1746982800@seidenkultur.de
SUMMARY:Vernissage: Nilufar Badiian – Freiheit im Spiegel der niederrheinischen Textilkunst
DESCRIPTION:Der Niederrhein war in der Vergangenheit aufgrund seiner geografischen Lage und der Toleranz gegenüber religiösen Minderheiten immer wieder ein wichtiger Zufluchtsort für Menschen\, die nach Freiheit suchten. An diesen kulturellen und politischen Freiheitsgedanken möchten wir anknüpfen und vielfältige Perspektiven auf die textile Geschichte des Niederrheins präsentieren. Dabei werden wir ein imaginäres „Textil“ entwerfen\, in dem Vergangenheit\, Gegenwart und Zukunft kunstvoll miteinander verwoben sind. \nDie deutsch-iranische Textilkünstlerin Nilufar Badiian\, die seit über 60 Jahren in dieser geschichtsträchtigen Region lebt\, beleuchtet in dem Ausstellungskonzept das Thema Freiheit aus einer sehr persönlichen Perspektive. Ihre Interpretation von Freiheit ist tief in ihrer kulturellen Herkunft und individuellen Lebenserfahrung verwurzelt. Ihre Werke laden dazu ein\, Freiheit als inneren Prozess der Selbsterkenntnis und des Ausdrucks der eigenen Identität zu begreifen. Mit handgewebten\, durchsichtigen Seidengeweben\, die sie selbst mit Pflanzenfarben färbt und mit mineralischen und pflanzlichen Pigmenten\, wie beispielsweise Lapislazuli oder Färberkrapp\, bemalt\, erschafft sie fragile und doch kraftvolle Kunstwerke. Diese Transparenz symbolisiert Offenheit und Leichtigkeit\, während die langen\, fast schwerelosen Stoffbahnen das grenzenlose Potenzial der Freiheit darstellen. Indem Badiian alte persische Muster neu interpretiert\, befreit sie diese von starren Traditionen und bringt gleichzeitig einen Teil ihre kulturelle Identität zum Ausdruck. Ihre Arbeiten betonen\, dass wahre Freiheit im Ausleben der eigenen Leidenschaft liegt. \n  \n  \nRahmenprogramm: \n  \n\nKünstlergespräch mit Nilufar Badiian\nPaneldiskussion: „Freiheit und Migration“: Historiker und Soziologen diskutieren die Bedeutung des Niederrheins als Zufluchtsort und die Verbindung von Migration\, Freiheit und kulturellem Ausdruck. (evtl. den Schriftsteller\, Publizisten und Orientalisten Navid Kermani dazu einladen)\nGemeinschafts-Webprojekt: Besucher weben gemeinsam an einem großen Stück Stoff\, das während der Ausstellung weiterwächst und die Vielfalt der Perspektiven auf Freiheit repräsentiert.\nKuratorenführungen: Thematische Führungen\, die die Verbindung von Textilien und Freiheit im Detail beleuchten
URL:https://seidenkultur.de/veranstaltung/vernissage-nilufar-badiian-freiheit-im-spiegel-der-niederrheinischen-textilkunst/
LOCATION:Haus der Seidenkultur\, Alte Stickerei\, Luisenstraße 15\, Krefeld\, NRW\, 47799\, Germany
CATEGORIES:Sonstige
END:VEVENT
END:VCALENDAR