BEGIN:VCALENDAR
VERSION:2.0
PRODID:-//HdS Krefeld - ECPv6.15.12.2//NONSGML v1.0//EN
CALSCALE:GREGORIAN
METHOD:PUBLISH
X-WR-CALNAME:HdS Krefeld
X-ORIGINAL-URL:https://seidenkultur.de
X-WR-CALDESC:Veranstaltungen für HdS Krefeld
REFRESH-INTERVAL;VALUE=DURATION:PT1H
X-Robots-Tag:noindex
X-PUBLISHED-TTL:PT1H
BEGIN:VTIMEZONE
TZID:UTC
BEGIN:STANDARD
TZOFFSETFROM:+0000
TZOFFSETTO:+0000
TZNAME:UTC
DTSTART:20240101T000000
END:STANDARD
END:VTIMEZONE
BEGIN:VEVENT
DTSTART;VALUE=DATE:20251122
DTEND;VALUE=DATE:20251123
DTSTAMP:20260423T021043
CREATED:20250213T095905Z
LAST-MODIFIED:20250304T110708Z
UID:246102-1763769600-1763855999@seidenkultur.de
SUMMARY:Novemberleuchten
DESCRIPTION:Das Novemberleuchten im Haus der Seidenkultur ist ein stimmungsvolles Event\, das den Beginn der Adventszeit feiert. In dem festlich dekorierten Haus tauchen die Besucher in eine weihnachtliche Atmosphäre ein\, in der zahlreiche Kunsthandwerker ihre handgefertigten Produkte präsentieren. Zudem werden kulinarische Leckerbissen angeboten\, und im Museumsshop können Produkte rund um Seide – wie Schals\, Krawatten usw. – erworben werden. \nOrganisatorin: Ute Szalkowski
URL:https://seidenkultur.de/veranstaltung/novemberleuchten/
LOCATION:Haus der Seidenkultur\, Alte Stickerei\, Luisenstraße 15\, Krefeld\, NRW\, 47799\, Germany
CATEGORIES:Sonstige
END:VEVENT
END:VCALENDAR